BEGIN:VCALENDAR
VERSION:2.0
PRODID:-//Shipyard Sports and Events Center - ECPv6.15.17.1//NONSGML v1.0//EN
CALSCALE:GREGORIAN
METHOD:PUBLISH
X-ORIGINAL-URL:https://shipyardohio.com
X-WR-CALDESC:Events for Shipyard Sports and Events Center
REFRESH-INTERVAL;VALUE=DURATION:PT1H
X-Robots-Tag:noindex
X-PUBLISHED-TTL:PT1H
BEGIN:VTIMEZONE
TZID:America/New_York
BEGIN:DAYLIGHT
TZOFFSETFROM:-0500
TZOFFSETTO:-0400
TZNAME:EDT
DTSTART:20230312T070000
END:DAYLIGHT
BEGIN:STANDARD
TZOFFSETFROM:-0400
TZOFFSETTO:-0500
TZNAME:EST
DTSTART:20231105T060000
END:STANDARD
BEGIN:DAYLIGHT
TZOFFSETFROM:-0500
TZOFFSETTO:-0400
TZNAME:EDT
DTSTART:20240310T070000
END:DAYLIGHT
BEGIN:STANDARD
TZOFFSETFROM:-0400
TZOFFSETTO:-0500
TZNAME:EST
DTSTART:20241103T060000
END:STANDARD
BEGIN:DAYLIGHT
TZOFFSETFROM:-0500
TZOFFSETTO:-0400
TZNAME:EDT
DTSTART:20250309T070000
END:DAYLIGHT
BEGIN:STANDARD
TZOFFSETFROM:-0400
TZOFFSETTO:-0500
TZNAME:EST
DTSTART:20251102T060000
END:STANDARD
BEGIN:DAYLIGHT
TZOFFSETFROM:-0500
TZOFFSETTO:-0400
TZNAME:EDT
DTSTART:20260308T070000
END:DAYLIGHT
BEGIN:STANDARD
TZOFFSETFROM:-0400
TZOFFSETTO:-0500
TZNAME:EST
DTSTART:20261101T060000
END:STANDARD
END:VTIMEZONE
BEGIN:VEVENT
DTSTART;TZID=America/New_York:20250530T000000
DTEND;TZID=America/New_York:20250708T120126
DTSTAMP:20260421T075728
CREATED:20250530T214056Z
LAST-MODIFIED:20250708T160126Z
UID:10006434-1748563200-1751976086@shipyardohio.com
SUMMARY:Train with Coach Bummy
DESCRIPTION:TRAINING OPTIONS: – Individual Training – $50/hour OR 5 sessions for $200! \n– Group Hitting (4 players) – $30/hour per player \n– Group Catchers Training – $40/hour per player \n– HitTrax Training – 1 session/ $80 (hour long sessions) COMING SOON! \n– HitTrax Training Membership – 10 sessions/ $650 (valid for 12 months) COMING SOON! \nAvailability: Year-round\, Monday–Friday Contact Jake to schedule today: jbaumgartner@shipyardohio.com or (419) 705-9454
URL:https://shipyardohio.com/shipyard-event/train-with-coach-bummy/
LOCATION:T&T Auto Sales Fieldhouse\, 6301 US - 127\, Celina\, OH\, 45822\, United States
CATEGORIES:Baseball
ATTACH;FMTTYPE=image/png:https://shipyardohio.com/wp-content/uploads/2025/05/BASEBALL-TRAINING-WITH-JAKE-GRAPHICS-01.png
END:VEVENT
BEGIN:VEVENT
DTSTART;TZID=America/New_York:20250427T090000
DTEND;TZID=America/New_York:20250427T160000
DTSTAMP:20260421T075728
CREATED:20250127T183818Z
LAST-MODIFIED:20250127T184823Z
UID:10005921-1745744400-1745769600@shipyardohio.com
SUMMARY:3rd - 4th Grade Baseball League
DESCRIPTION:3rd – 4th Grade Baseball League \nGame Dates: \n\nSunday\, April 6th\nSunday\, April 13th\nSaturday\, April 19th\nSunday\, April 27th (Single Elimination Tournament)\n\nLeague Format: \n\n$85 per player\n6 Teams Maximum\nNo Select Teams\n\nAll players must attend the same school\n\n\nTeams will play 2 games per game day.\n\nTeams are guaranteed 7 games but could play up to 9 games total.\n\n\nAwards for 1st & 2nd Place Teams\n\nRegistration closes on March 30th.
URL:https://shipyardohio.com/shipyard-event/3rd-4th-grade-baseball-league/2025-04-27/
LOCATION:T&T Auto Sales Fieldhouse\, 6301 US - 127\, Celina\, OH\, 45822\, United States
CATEGORIES:Baseball
ATTACH;FMTTYPE=image/png:https://shipyardohio.com/wp-content/uploads/2025/01/3rd-4th-Grade-Baseball-League-02.png
END:VEVENT
BEGIN:VEVENT
DTSTART;TZID=America/New_York:20250419T090000
DTEND;TZID=America/New_York:20250419T160000
DTSTAMP:20260421T075728
CREATED:20250127T183818Z
LAST-MODIFIED:20250127T184823Z
UID:10005920-1745053200-1745078400@shipyardohio.com
SUMMARY:3rd - 4th Grade Baseball League
DESCRIPTION:3rd – 4th Grade Baseball League \nGame Dates: \n\nSunday\, April 6th\nSunday\, April 13th\nSaturday\, April 19th\nSunday\, April 27th (Single Elimination Tournament)\n\nLeague Format: \n\n$85 per player\n6 Teams Maximum\nNo Select Teams\n\nAll players must attend the same school\n\n\nTeams will play 2 games per game day.\n\nTeams are guaranteed 7 games but could play up to 9 games total.\n\n\nAwards for 1st & 2nd Place Teams\n\nRegistration closes on March 30th.
URL:https://shipyardohio.com/shipyard-event/3rd-4th-grade-baseball-league/2025-04-19/
LOCATION:T&T Auto Sales Fieldhouse\, 6301 US - 127\, Celina\, OH\, 45822\, United States
CATEGORIES:Baseball
ATTACH;FMTTYPE=image/png:https://shipyardohio.com/wp-content/uploads/2025/01/3rd-4th-Grade-Baseball-League-02.png
END:VEVENT
BEGIN:VEVENT
DTSTART;TZID=America/New_York:20250413T090000
DTEND;TZID=America/New_York:20250413T160000
DTSTAMP:20260421T075728
CREATED:20250127T183818Z
LAST-MODIFIED:20250127T184823Z
UID:10005919-1744534800-1744560000@shipyardohio.com
SUMMARY:3rd - 4th Grade Baseball League
DESCRIPTION:3rd – 4th Grade Baseball League \nGame Dates: \n\nSunday\, April 6th\nSunday\, April 13th\nSaturday\, April 19th\nSunday\, April 27th (Single Elimination Tournament)\n\nLeague Format: \n\n$85 per player\n6 Teams Maximum\nNo Select Teams\n\nAll players must attend the same school\n\n\nTeams will play 2 games per game day.\n\nTeams are guaranteed 7 games but could play up to 9 games total.\n\n\nAwards for 1st & 2nd Place Teams\n\nRegistration closes on March 30th.
URL:https://shipyardohio.com/shipyard-event/3rd-4th-grade-baseball-league/2025-04-13/
LOCATION:T&T Auto Sales Fieldhouse\, 6301 US - 127\, Celina\, OH\, 45822\, United States
CATEGORIES:Baseball
ATTACH;FMTTYPE=image/png:https://shipyardohio.com/wp-content/uploads/2025/01/3rd-4th-Grade-Baseball-League-02.png
END:VEVENT
BEGIN:VEVENT
DTSTART;TZID=America/New_York:20250406T090000
DTEND;TZID=America/New_York:20250406T160000
DTSTAMP:20260421T075728
CREATED:20250127T183818Z
LAST-MODIFIED:20250127T184823Z
UID:10005918-1743930000-1743955200@shipyardohio.com
SUMMARY:3rd - 4th Grade Baseball League
DESCRIPTION:3rd – 4th Grade Baseball League \nGame Dates: \n\nSunday\, April 6th\nSunday\, April 13th\nSaturday\, April 19th\nSunday\, April 27th (Single Elimination Tournament)\n\nLeague Format: \n\n$85 per player\n6 Teams Maximum\nNo Select Teams\n\nAll players must attend the same school\n\n\nTeams will play 2 games per game day.\n\nTeams are guaranteed 7 games but could play up to 9 games total.\n\n\nAwards for 1st & 2nd Place Teams\n\nRegistration closes on March 30th.
URL:https://shipyardohio.com/shipyard-event/3rd-4th-grade-baseball-league/2025-04-06/
LOCATION:T&T Auto Sales Fieldhouse\, 6301 US - 127\, Celina\, OH\, 45822\, United States
CATEGORIES:Baseball
ATTACH;FMTTYPE=image/png:https://shipyardohio.com/wp-content/uploads/2025/01/3rd-4th-Grade-Baseball-League-02.png
END:VEVENT
BEGIN:VEVENT
DTSTART;TZID=America/New_York:20241228T103000
DTEND;TZID=America/New_York:20241228T120000
DTSTAMP:20260421T075728
CREATED:20241108T221951Z
LAST-MODIFIED:20241108T221951Z
UID:10005682-1735381800-1735387200@shipyardohio.com
SUMMARY:Holiday Baseball Clinic
DESCRIPTION:GO YARD…GO SHIPYARD\nHOLIDAY BASEBALL INSTRUCTIONAL CLINIC\n\nDates: Friday\, December 27 & Saturday\, December 28\nClinic Times:\n\n7-9 years old: 8:30 AM -10:00 AM\n10 – 13 years old: 10:30 AM -12:00 PM\n\nWhat to Bring: Ball Glove\, Cap\, Bat\, Batting Helmet\, Water\nClinic Gift: Shipyard Water Bottle\nInstructional Staff: Celina High School & Jr. High School Coaching Staff & Guest Instructors\nCost: $40 – register by December 20th\, $50 for late registration
URL:https://shipyardohio.com/shipyard-event/holiday-baseball-clinic-2/2024-12-28/
LOCATION:T&T Auto Sales Fieldhouse\, 6301 US - 127\, Celina\, OH\, 45822\, United States
CATEGORIES:Baseball
ATTACH;FMTTYPE=image/png:https://shipyardohio.com/wp-content/uploads/2024/11/Holiday-Baseball-Clinic-01.png
END:VEVENT
BEGIN:VEVENT
DTSTART;TZID=America/New_York:20241228T083000
DTEND;TZID=America/New_York:20241228T100000
DTSTAMP:20260421T075728
CREATED:20241108T221859Z
LAST-MODIFIED:20241108T221859Z
UID:10005678-1735374600-1735380000@shipyardohio.com
SUMMARY:Holiday Baseball Clinic
DESCRIPTION:GO YARD…GO SHIPYARD\nHOLIDAY BASEBALL INSTRUCTIONAL CLINIC\n\nDates: Friday\, December 27 & Saturday\, December 28\nClinic Times:\n\n7-9 years old: 8:30 AM -10:00 AM\n10 – 13 years old: 10:30 AM -12:00 PM\n\nWhat to Bring: Ball Glove\, Cap\, Bat\, Batting Helmet\, Water\nClinic Gift: Shipyard Water Bottle\nInstructional Staff: Celina High School & Jr. High School Coaching Staff & Guest Instructors\nCost: $40 – register by December 20th\, $50 for late registration
URL:https://shipyardohio.com/shipyard-event/holiday-baseball-clinic/2024-12-28/
LOCATION:T&T Auto Sales Fieldhouse\, 6301 US - 127\, Celina\, OH\, 45822\, United States
CATEGORIES:Baseball
ATTACH;FMTTYPE=image/png:https://shipyardohio.com/wp-content/uploads/2024/11/Holiday-Baseball-Clinic-01.png
END:VEVENT
BEGIN:VEVENT
DTSTART;TZID=America/New_York:20241227T103000
DTEND;TZID=America/New_York:20241227T120000
DTSTAMP:20260421T075728
CREATED:20241108T221951Z
LAST-MODIFIED:20241108T221951Z
UID:10005681-1735295400-1735300800@shipyardohio.com
SUMMARY:Holiday Baseball Clinic
DESCRIPTION:GO YARD…GO SHIPYARD\nHOLIDAY BASEBALL INSTRUCTIONAL CLINIC\n\nDates: Friday\, December 27 & Saturday\, December 28\nClinic Times:\n\n7-9 years old: 8:30 AM -10:00 AM\n10 – 13 years old: 10:30 AM -12:00 PM\n\nWhat to Bring: Ball Glove\, Cap\, Bat\, Batting Helmet\, Water\nClinic Gift: Shipyard Water Bottle\nInstructional Staff: Celina High School & Jr. High School Coaching Staff & Guest Instructors\nCost: $40 – register by December 20th\, $50 for late registration
URL:https://shipyardohio.com/shipyard-event/holiday-baseball-clinic-2/2024-12-27/
LOCATION:T&T Auto Sales Fieldhouse\, 6301 US - 127\, Celina\, OH\, 45822\, United States
CATEGORIES:Baseball
ATTACH;FMTTYPE=image/png:https://shipyardohio.com/wp-content/uploads/2024/11/Holiday-Baseball-Clinic-01.png
END:VEVENT
BEGIN:VEVENT
DTSTART;TZID=America/New_York:20241227T083000
DTEND;TZID=America/New_York:20241227T100000
DTSTAMP:20260421T075728
CREATED:20241108T221859Z
LAST-MODIFIED:20241108T221859Z
UID:10005677-1735288200-1735293600@shipyardohio.com
SUMMARY:Holiday Baseball Clinic
DESCRIPTION:GO YARD…GO SHIPYARD\nHOLIDAY BASEBALL INSTRUCTIONAL CLINIC\n\nDates: Friday\, December 27 & Saturday\, December 28\nClinic Times:\n\n7-9 years old: 8:30 AM -10:00 AM\n10 – 13 years old: 10:30 AM -12:00 PM\n\nWhat to Bring: Ball Glove\, Cap\, Bat\, Batting Helmet\, Water\nClinic Gift: Shipyard Water Bottle\nInstructional Staff: Celina High School & Jr. High School Coaching Staff & Guest Instructors\nCost: $40 – register by December 20th\, $50 for late registration
URL:https://shipyardohio.com/shipyard-event/holiday-baseball-clinic/2024-12-27/
LOCATION:T&T Auto Sales Fieldhouse\, 6301 US - 127\, Celina\, OH\, 45822\, United States
CATEGORIES:Baseball
ATTACH;FMTTYPE=image/png:https://shipyardohio.com/wp-content/uploads/2024/11/Holiday-Baseball-Clinic-01.png
END:VEVENT
END:VCALENDAR