BEGIN:VCALENDAR
VERSION:2.0
PRODID:-//Shipyard Sports and Events Center - ECPv6.15.17.1//NONSGML v1.0//EN
CALSCALE:GREGORIAN
METHOD:PUBLISH
X-WR-CALNAME:Shipyard Sports and Events Center
X-ORIGINAL-URL:https://shipyardohio.com
X-WR-CALDESC:Events for Shipyard Sports and Events Center
REFRESH-INTERVAL;VALUE=DURATION:PT1H
X-Robots-Tag:noindex
X-PUBLISHED-TTL:PT1H
BEGIN:VTIMEZONE
TZID:America/New_York
BEGIN:DAYLIGHT
TZOFFSETFROM:-0500
TZOFFSETTO:-0400
TZNAME:EDT
DTSTART:20230312T070000
END:DAYLIGHT
BEGIN:STANDARD
TZOFFSETFROM:-0400
TZOFFSETTO:-0500
TZNAME:EST
DTSTART:20231105T060000
END:STANDARD
BEGIN:DAYLIGHT
TZOFFSETFROM:-0500
TZOFFSETTO:-0400
TZNAME:EDT
DTSTART:20240310T070000
END:DAYLIGHT
BEGIN:STANDARD
TZOFFSETFROM:-0400
TZOFFSETTO:-0500
TZNAME:EST
DTSTART:20241103T060000
END:STANDARD
BEGIN:DAYLIGHT
TZOFFSETFROM:-0500
TZOFFSETTO:-0400
TZNAME:EDT
DTSTART:20250309T070000
END:DAYLIGHT
BEGIN:STANDARD
TZOFFSETFROM:-0400
TZOFFSETTO:-0500
TZNAME:EST
DTSTART:20251102T060000
END:STANDARD
END:VTIMEZONE
BEGIN:VEVENT
DTSTART;TZID=America/New_York:20241120T173000
DTEND;TZID=America/New_York:20241120T210000
DTSTAMP:20260421T080917
CREATED:20240826T193744Z
LAST-MODIFIED:20241025T172306Z
UID:10004585-1732123800-1732136400@shipyardohio.com
SUMMARY:Adult Fall Soccer League
DESCRIPTION:High School & Adult Fall Soccer League\nRegistration Opens: August 23rd\nRegistration Deadline: October 14th\nLeague Starts: Week of October 28th\nLeague Ends with a Tournament the week of December 16th \nDivisions: \n\n1st – 2nd Grade: Monday & Tuesday\n3rd – 4th Grade: Friday/Saturday\n5th – 6th Grade: Friday/Saturday\n7th – 8th Grade: Sunday\nHS & Adult: Wednesday
URL:https://shipyardohio.com/shipyard-event/adult-fall-soccer-league/2024-11-20/
CATEGORIES:Adult Soccer,Adult Soccer League,Soccer
ATTACH;FMTTYPE=image/png:https://shipyardohio.com/wp-content/uploads/2024/08/Fall-Soccer-League-GRAPHICS-01.png
END:VEVENT
BEGIN:VEVENT
DTSTART;TZID=America/New_York:20241113T173000
DTEND;TZID=America/New_York:20241113T210000
DTSTAMP:20260421T080917
CREATED:20240826T193744Z
LAST-MODIFIED:20241025T172306Z
UID:10004584-1731519000-1731531600@shipyardohio.com
SUMMARY:Adult Fall Soccer League
DESCRIPTION:High School & Adult Fall Soccer League\nRegistration Opens: August 23rd\nRegistration Deadline: October 14th\nLeague Starts: Week of October 28th\nLeague Ends with a Tournament the week of December 16th \nDivisions: \n\n1st – 2nd Grade: Monday & Tuesday\n3rd – 4th Grade: Friday/Saturday\n5th – 6th Grade: Friday/Saturday\n7th – 8th Grade: Sunday\nHS & Adult: Wednesday
URL:https://shipyardohio.com/shipyard-event/adult-fall-soccer-league/2024-11-13/
CATEGORIES:Adult Soccer,Adult Soccer League,Soccer
ATTACH;FMTTYPE=image/png:https://shipyardohio.com/wp-content/uploads/2024/08/Fall-Soccer-League-GRAPHICS-01.png
END:VEVENT
BEGIN:VEVENT
DTSTART;TZID=America/New_York:20241106T173000
DTEND;TZID=America/New_York:20241106T210000
DTSTAMP:20260421T080917
CREATED:20240826T193744Z
LAST-MODIFIED:20241025T172306Z
UID:10004583-1730914200-1730926800@shipyardohio.com
SUMMARY:Adult Fall Soccer League
DESCRIPTION:High School & Adult Fall Soccer League\nRegistration Opens: August 23rd\nRegistration Deadline: October 14th\nLeague Starts: Week of October 28th\nLeague Ends with a Tournament the week of December 16th \nDivisions: \n\n1st – 2nd Grade: Monday & Tuesday\n3rd – 4th Grade: Friday/Saturday\n5th – 6th Grade: Friday/Saturday\n7th – 8th Grade: Sunday\nHS & Adult: Wednesday
URL:https://shipyardohio.com/shipyard-event/adult-fall-soccer-league/2024-11-06/
CATEGORIES:Adult Soccer,Adult Soccer League,Soccer
ATTACH;FMTTYPE=image/png:https://shipyardohio.com/wp-content/uploads/2024/08/Fall-Soccer-League-GRAPHICS-01.png
END:VEVENT
BEGIN:VEVENT
DTSTART;TZID=America/New_York:20241030T173000
DTEND;TZID=America/New_York:20241030T210000
DTSTAMP:20260421T080917
CREATED:20240826T193744Z
LAST-MODIFIED:20241025T172306Z
UID:10004582-1730309400-1730322000@shipyardohio.com
SUMMARY:Adult Fall Soccer League
DESCRIPTION:High School & Adult Fall Soccer League\nRegistration Opens: August 23rd\nRegistration Deadline: October 14th\nLeague Starts: Week of October 28th\nLeague Ends with a Tournament the week of December 16th \nDivisions: \n\n1st – 2nd Grade: Monday & Tuesday\n3rd – 4th Grade: Friday/Saturday\n5th – 6th Grade: Friday/Saturday\n7th – 8th Grade: Sunday\nHS & Adult: Wednesday
URL:https://shipyardohio.com/shipyard-event/adult-fall-soccer-league/2024-10-30/
CATEGORIES:Adult Soccer,Adult Soccer League,Soccer
ATTACH;FMTTYPE=image/png:https://shipyardohio.com/wp-content/uploads/2024/08/Fall-Soccer-League-GRAPHICS-01.png
END:VEVENT
END:VCALENDAR