BEGIN:VCALENDAR
VERSION:2.0
PRODID:-//Shipyard Sports and Events Center - ECPv6.15.17.1//NONSGML v1.0//EN
CALSCALE:GREGORIAN
METHOD:PUBLISH
X-ORIGINAL-URL:https://shipyardohio.com
X-WR-CALDESC:Events for Shipyard Sports and Events Center
REFRESH-INTERVAL;VALUE=DURATION:PT1H
X-Robots-Tag:noindex
X-PUBLISHED-TTL:PT1H
BEGIN:VTIMEZONE
TZID:America/New_York
BEGIN:DAYLIGHT
TZOFFSETFROM:-0500
TZOFFSETTO:-0400
TZNAME:EDT
DTSTART:20230312T070000
END:DAYLIGHT
BEGIN:STANDARD
TZOFFSETFROM:-0400
TZOFFSETTO:-0500
TZNAME:EST
DTSTART:20231105T060000
END:STANDARD
BEGIN:DAYLIGHT
TZOFFSETFROM:-0500
TZOFFSETTO:-0400
TZNAME:EDT
DTSTART:20240310T070000
END:DAYLIGHT
BEGIN:STANDARD
TZOFFSETFROM:-0400
TZOFFSETTO:-0500
TZNAME:EST
DTSTART:20241103T060000
END:STANDARD
BEGIN:DAYLIGHT
TZOFFSETFROM:-0500
TZOFFSETTO:-0400
TZNAME:EDT
DTSTART:20250309T070000
END:DAYLIGHT
BEGIN:STANDARD
TZOFFSETFROM:-0400
TZOFFSETTO:-0500
TZNAME:EST
DTSTART:20251102T060000
END:STANDARD
END:VTIMEZONE
BEGIN:VEVENT
DTSTART;TZID=America/New_York:20241101T171500
DTEND;TZID=America/New_York:20241101T210000
DTSTAMP:20260421T144647
CREATED:20240826T195138Z
LAST-MODIFIED:20241025T172812Z
UID:10004644-1730481300-1730494800@shipyardohio.com
SUMMARY:Youth Fall Soccer League
DESCRIPTION:1st Grade – 8th Grade Fall Soccer League \nRegistration Opens: August 23rd\nRegistration Deadline: October 14th\nLeague Starts: Week of October 28th\nLeague Ends with a Tournament the week of December 16th \nDivisions: \n\n1st – 2nd Grade: Monday & Tuesday\n3rd – 4th Grade: Friday/Saturday\n5th – 6th Grade: Friday/Saturday\n7th – 8th Grade: Sunday\nHS & Adult: Wednesday
URL:https://shipyardohio.com/shipyard-event/youth-fall-soccer-league-copy/2024-11-01/
CATEGORIES:Soccer,Youth Soccer,Youth Soccer Leagues
ATTACH;FMTTYPE=image/png:https://shipyardohio.com/wp-content/uploads/2024/08/Fall-Soccer-League-GRAPHICS-01.png
END:VEVENT
BEGIN:VEVENT
DTSTART;TZID=America/New_York:20241029T171500
DTEND;TZID=America/New_York:20241029T210000
DTSTAMP:20260421T144647
CREATED:20240826T195138Z
LAST-MODIFIED:20241025T172812Z
UID:10004643-1730222100-1730235600@shipyardohio.com
SUMMARY:Youth Fall Soccer League
DESCRIPTION:1st Grade – 8th Grade Fall Soccer League \nRegistration Opens: August 23rd\nRegistration Deadline: October 14th\nLeague Starts: Week of October 28th\nLeague Ends with a Tournament the week of December 16th \nDivisions: \n\n1st – 2nd Grade: Monday & Tuesday\n3rd – 4th Grade: Friday/Saturday\n5th – 6th Grade: Friday/Saturday\n7th – 8th Grade: Sunday\nHS & Adult: Wednesday
URL:https://shipyardohio.com/shipyard-event/youth-fall-soccer-league-copy/2024-10-29/
CATEGORIES:Soccer,Youth Soccer,Youth Soccer Leagues
ATTACH;FMTTYPE=image/png:https://shipyardohio.com/wp-content/uploads/2024/08/Fall-Soccer-League-GRAPHICS-01.png
END:VEVENT
BEGIN:VEVENT
DTSTART;TZID=America/New_York:20241028T171500
DTEND;TZID=America/New_York:20241028T210000
DTSTAMP:20260421T144647
CREATED:20240826T195138Z
LAST-MODIFIED:20241025T172812Z
UID:10004642-1730135700-1730149200@shipyardohio.com
SUMMARY:Youth Fall Soccer League
DESCRIPTION:1st Grade – 8th Grade Fall Soccer League \nRegistration Opens: August 23rd\nRegistration Deadline: October 14th\nLeague Starts: Week of October 28th\nLeague Ends with a Tournament the week of December 16th \nDivisions: \n\n1st – 2nd Grade: Monday & Tuesday\n3rd – 4th Grade: Friday/Saturday\n5th – 6th Grade: Friday/Saturday\n7th – 8th Grade: Sunday\nHS & Adult: Wednesday
URL:https://shipyardohio.com/shipyard-event/youth-fall-soccer-league-copy/2024-10-28/
CATEGORIES:Soccer,Youth Soccer,Youth Soccer Leagues
ATTACH;FMTTYPE=image/png:https://shipyardohio.com/wp-content/uploads/2024/08/Fall-Soccer-League-GRAPHICS-01.png
END:VEVENT
END:VCALENDAR